BEGIN:VCALENDAR
VERSION:2.0
PRODID:-//Bentron Financial Group, Inc. - ECPv6.8.3//NONSGML v1.0//EN
CALSCALE:GREGORIAN
METHOD:PUBLISH
X-WR-CALNAME:Bentron Financial Group, Inc.
X-ORIGINAL-URL:https://bentron.com
X-WR-CALDESC:Events for Bentron Financial Group, Inc.
REFRESH-INTERVAL;VALUE=DURATION:PT1H
X-Robots-Tag:noindex
X-PUBLISHED-TTL:PT1H
BEGIN:VTIMEZONE
TZID:America/New_York
BEGIN:DAYLIGHT
TZOFFSETFROM:-0500
TZOFFSETTO:-0400
TZNAME:EDT
DTSTART:20250309T070000
END:DAYLIGHT
BEGIN:STANDARD
TZOFFSETFROM:-0400
TZOFFSETTO:-0500
TZNAME:EST
DTSTART:20251102T060000
END:STANDARD
END:VTIMEZONE
BEGIN:VEVENT
DTSTART;TZID=America/New_York:20251021T190000
DTEND;TZID=America/New_York:20251021T200000
DTSTAMP:20260421T043448
CREATED:20250812T202147Z
LAST-MODIFIED:20251003T190845Z
UID:1658-1761073200-1761076800@bentron.com
SUMMARY:Understanding Social Security at Forest Park Library 7:00PM
DESCRIPTION:Click Here to Register. 
URL:https://bentron.com/event/understanding-social-security-at-addison-library-700pm/
LOCATION:Forest Park Public Library\, 7555 Jackson Blvd.\, Forest Park\, IL\, 60130
CATEGORIES:Library Workshops
END:VEVENT
BEGIN:VEVENT
DTSTART;TZID=America/New_York:20251021T190000
DTEND;TZID=America/New_York:20251021T200000
DTSTAMP:20260421T043448
CREATED:20251003T210542Z
LAST-MODIFIED:20251003T210839Z
UID:1708-1761073200-1761076800@bentron.com
SUMMARY:Understanding Social Security at New Lenox Library 7:00PM
DESCRIPTION:Click Here to Register.
URL:https://bentron.com/event/understanding-social-security-at-new-lenox-library-700pm/
LOCATION:IL
CATEGORIES:Library Workshops
END:VEVENT
END:VCALENDAR