BEGIN:VCALENDAR
VERSION:2.0
PRODID:-//Bentron Financial Group, Inc. - ECPv6.8.3//NONSGML v1.0//EN
CALSCALE:GREGORIAN
METHOD:PUBLISH
X-WR-CALNAME:Bentron Financial Group, Inc.
X-ORIGINAL-URL:https://bentron.com
X-WR-CALDESC:Events for Bentron Financial Group, Inc.
REFRESH-INTERVAL;VALUE=DURATION:PT1H
X-Robots-Tag:noindex
X-PUBLISHED-TTL:PT1H
BEGIN:VTIMEZONE
TZID:America/New_York
BEGIN:DAYLIGHT
TZOFFSETFROM:-0500
TZOFFSETTO:-0400
TZNAME:EDT
DTSTART:20250309T070000
END:DAYLIGHT
BEGIN:STANDARD
TZOFFSETFROM:-0400
TZOFFSETTO:-0500
TZNAME:EST
DTSTART:20251102T060000
END:STANDARD
END:VTIMEZONE
BEGIN:VEVENT
DTSTART;TZID=America/New_York:20251001T190000
DTEND;TZID=America/New_York:20251001T200000
DTSTAMP:20260421T043514
CREATED:20250618T190128Z
LAST-MODIFIED:20250618T190128Z
UID:1611-1759345200-1759348800@bentron.com
SUMMARY:Can You Afford to Retire? at Poplar Creek Library 7:00PM
DESCRIPTION:
URL:https://bentron.com/event/can-you-afford-to-retire-at-poplar-creek-library-700pm/
LOCATION:Poplar Creek Public Library\, 1405 S. Park Ave.\, Streamwood\, IL\, 60107\, United States
CATEGORIES:Library Workshops
END:VEVENT
END:VCALENDAR